BEGIN:VCALENDAR
VERSION:2.0
PRODID:-//Central Florida Christian Academy - ECPv6.11.2.1//NONSGML v1.0//EN
CALSCALE:GREGORIAN
METHOD:PUBLISH
X-WR-CALNAME:Central Florida Christian Academy
X-ORIGINAL-URL:https://cfcaeagles.org
X-WR-CALDESC:Events for Central Florida Christian Academy
REFRESH-INTERVAL;VALUE=DURATION:PT1H
X-Robots-Tag:noindex
X-PUBLISHED-TTL:PT1H
BEGIN:VTIMEZONE
TZID:America/New_York
BEGIN:DAYLIGHT
TZOFFSETFROM:-0500
TZOFFSETTO:-0400
TZNAME:EDT
DTSTART:20210314T070000
END:DAYLIGHT
BEGIN:STANDARD
TZOFFSETFROM:-0400
TZOFFSETTO:-0500
TZNAME:EST
DTSTART:20211107T060000
END:STANDARD
END:VTIMEZONE
BEGIN:VEVENT
DTSTART;TZID=America/New_York:20210105T073000
DTEND;TZID=America/New_York:20210105T153000
DTSTAMP:20260420T203836
CREATED:20201007T004534Z
LAST-MODIFIED:20210104T205936Z
UID:898-1609831800-1609860600@cfcaeagles.org
SUMMARY:Teacher Workday/ Student Holiday
DESCRIPTION:
URL:https://cfcaeagles.org/event/teacher-workday-student-holiday/
END:VEVENT
BEGIN:VEVENT
DTSTART;TZID=America/New_York:20210105T080000
DTEND;TZID=America/New_York:20210105T150000
DTSTAMP:20260420T203836
CREATED:20201007T004528Z
LAST-MODIFIED:20210104T205936Z
UID:897-1609833600-1609858800@cfcaeagles.org
SUMMARY:No School- Christmas Holidays
DESCRIPTION:
URL:https://cfcaeagles.org/event/no-school-christmas-holidays-16/
END:VEVENT
BEGIN:VEVENT
DTSTART;TZID=America/New_York:20210105T173000
DTEND;TZID=America/New_York:20210105T203000
DTSTAMP:20260420T203836
CREATED:20201107T092653Z
LAST-MODIFIED:20210105T205757Z
UID:1016-1609867800-1609878600@cfcaeagles.org
SUMMARY:Boys Basketball Game (at Windermere HS JV\, V)
DESCRIPTION:Rooms:\nSchool – Off Campus\nResources:\n1 Van 1
URL:https://cfcaeagles.org/event/boys-basketball-game-at-windermere-hs-jv-v/
END:VEVENT
END:VCALENDAR