BEGIN:VCALENDAR
VERSION:2.0
PRODID:-//Central Florida Christian Academy - ECPv6.11.2.1//NONSGML v1.0//EN
CALSCALE:GREGORIAN
METHOD:PUBLISH
X-WR-CALNAME:Central Florida Christian Academy
X-ORIGINAL-URL:https://cfcaeagles.org
X-WR-CALDESC:Events for Central Florida Christian Academy
REFRESH-INTERVAL;VALUE=DURATION:PT1H
X-Robots-Tag:noindex
X-PUBLISHED-TTL:PT1H
BEGIN:VTIMEZONE
TZID:America/New_York
BEGIN:DAYLIGHT
TZOFFSETFROM:-0500
TZOFFSETTO:-0400
TZNAME:EDT
DTSTART:20210314T070000
END:DAYLIGHT
BEGIN:STANDARD
TZOFFSETFROM:-0400
TZOFFSETTO:-0500
TZNAME:EST
DTSTART:20211107T060000
END:STANDARD
END:VTIMEZONE
BEGIN:VEVENT
DTSTART;TZID=America/New_York:20210108T160000
DTEND;TZID=America/New_York:20210108T170000
DTSTAMP:20260420T203838
CREATED:20201106T090950Z
LAST-MODIFIED:20210108T205832Z
UID:985-1610121600-1610125200@cfcaeagles.org
SUMMARY:MS Girls Basketball Game (at Trinity Christian)
DESCRIPTION:Rooms:\nSchool – Off Campus
URL:https://cfcaeagles.org/event/ms-girls-basketball-game-at-trinity-christian/
END:VEVENT
BEGIN:VEVENT
DTSTART;TZID=America/New_York:20210108T170000
DTEND;TZID=America/New_York:20210108T180000
DTSTAMP:20260420T203838
CREATED:20201106T090946Z
LAST-MODIFIED:20210108T205832Z
UID:984-1610125200-1610128800@cfcaeagles.org
SUMMARY:MS Boys Basketball Game (at Trinity Christian)
DESCRIPTION:Rooms:\nSchool – Off Campus
URL:https://cfcaeagles.org/event/ms-boys-basketball-game-at-trinity-christian/
END:VEVENT
BEGIN:VEVENT
DTSTART;TZID=America/New_York:20210108T180000
DTEND;TZID=America/New_York:20210108T190000
DTSTAMP:20260420T203838
CREATED:20201107T092743Z
LAST-MODIFIED:20210108T205832Z
UID:1020-1610128800-1610132400@cfcaeagles.org
SUMMARY:Girls Basketball Game (vs Lake Brantley)
DESCRIPTION:Rooms:\nB115 // Cafe/Concessions // Men’s RR // Women’s Locker Room // Women’s RR // Worship Center/Gym
URL:https://cfcaeagles.org/event/girls-basketball-game-vs-lake-brantley/
END:VEVENT
BEGIN:VEVENT
DTSTART;TZID=America/New_York:20210108T193000
DTEND;TZID=America/New_York:20210108T204500
DTSTAMP:20260420T203838
CREATED:20201107T092747Z
LAST-MODIFIED:20210108T205832Z
UID:1021-1610134200-1610138700@cfcaeagles.org
SUMMARY:Boys Basketball Game (vs Master's Academy V)
DESCRIPTION:Rooms:\nB115 // Cafe/Concessions // Men’s Locker Room // Men’s RR // Women’s RR // Worship Center/Gym
URL:https://cfcaeagles.org/event/boys-basketball-game-vs-masters-academy-v/
END:VEVENT
END:VCALENDAR