BEGIN:VCALENDAR
VERSION:2.0
PRODID:-//Central Florida Christian Academy - ECPv6.11.2.1//NONSGML v1.0//EN
CALSCALE:GREGORIAN
METHOD:PUBLISH
X-ORIGINAL-URL:https://cfcaeagles.org
X-WR-CALDESC:Events for Central Florida Christian Academy
REFRESH-INTERVAL;VALUE=DURATION:PT1H
X-Robots-Tag:noindex
X-PUBLISHED-TTL:PT1H
BEGIN:VTIMEZONE
TZID:America/New_York
BEGIN:DAYLIGHT
TZOFFSETFROM:-0500
TZOFFSETTO:-0400
TZNAME:EDT
DTSTART:20210314T070000
END:DAYLIGHT
BEGIN:STANDARD
TZOFFSETFROM:-0400
TZOFFSETTO:-0500
TZNAME:EST
DTSTART:20211107T060000
END:STANDARD
END:VTIMEZONE
BEGIN:VEVENT
DTSTART;TZID=America/New_York:20210112T173000
DTEND;TZID=America/New_York:20210112T203000
DTSTAMP:20260420T204415
CREATED:20201107T092755Z
LAST-MODIFIED:20210112T115814Z
UID:1023-1610472600-1610483400@cfcaeagles.org
SUMMARY:Boys Basketball Game (at Wildwood HS JV\, V)
DESCRIPTION:Rooms:\nSchool – Off Campus\nResources:\n1 Van 1
URL:https://cfcaeagles.org/event/boys-basketball-game-at-wildwood-hs-jv-v/
END:VEVENT
BEGIN:VEVENT
DTSTART;TZID=America/New_York:20210112T180000
DTEND;TZID=America/New_York:20210112T190000
DTSTAMP:20260420T204415
CREATED:20201107T092751Z
LAST-MODIFIED:20210112T115814Z
UID:1022-1610474400-1610478000@cfcaeagles.org
SUMMARY:Girls Basketball Game (vs Foundation)
DESCRIPTION:Rooms:\nB115 // Cafe/Concessions // Men’s RR // Women’s Locker Room // Women’s RR // Worship Center/Gym
URL:https://cfcaeagles.org/event/girls-basketball-game-vs-foundation/
END:VEVENT
END:VCALENDAR