BEGIN:VCALENDAR
VERSION:2.0
PRODID:-//Central Florida Christian Academy - ECPv6.11.2.1//NONSGML v1.0//EN
CALSCALE:GREGORIAN
METHOD:PUBLISH
X-ORIGINAL-URL:https://cfcaeagles.org
X-WR-CALDESC:Events for Central Florida Christian Academy
REFRESH-INTERVAL;VALUE=DURATION:PT1H
X-Robots-Tag:noindex
X-PUBLISHED-TTL:PT1H
BEGIN:VTIMEZONE
TZID:America/New_York
BEGIN:DAYLIGHT
TZOFFSETFROM:-0500
TZOFFSETTO:-0400
TZNAME:EDT
DTSTART:20210314T070000
END:DAYLIGHT
BEGIN:STANDARD
TZOFFSETFROM:-0400
TZOFFSETTO:-0500
TZNAME:EST
DTSTART:20211107T060000
END:STANDARD
END:VTIMEZONE
BEGIN:VEVENT
DTSTART;TZID=America/New_York:20210119T160000
DTEND;TZID=America/New_York:20210119T170000
DTSTAMP:20260420T204534
CREATED:20201106T091047Z
LAST-MODIFIED:20210119T115737Z
UID:988-1611072000-1611075600@cfcaeagles.org
SUMMARY:MS Girls Basketball Game (vs Mount Dora Christian)
DESCRIPTION:Rooms:\nB115 // Cafe/Concessions // Men’s Locker Room // Men’s RR // Women’s Locker Room // Women’s RR // Worship Center/Gym
URL:https://cfcaeagles.org/event/ms-girls-basketball-game-vs-mount-dora-christian/
END:VEVENT
BEGIN:VEVENT
DTSTART;TZID=America/New_York:20210119T170000
DTEND;TZID=America/New_York:20210119T180000
DTSTAMP:20260420T204534
CREATED:20201106T091042Z
LAST-MODIFIED:20210119T115737Z
UID:987-1611075600-1611079200@cfcaeagles.org
SUMMARY:MS Boys Basketball Game (vs Mount Dora Christian)
DESCRIPTION:Rooms:\nB115 // Cafe/Concessions // Men’s Locker Room // Men’s RR // Women’s Locker Room // Women’s RR // Worship Center/Gym
URL:https://cfcaeagles.org/event/ms-boys-basketball-game-vs-mount-dora-christian/
END:VEVENT
BEGIN:VEVENT
DTSTART;TZID=America/New_York:20210119T180000
DTEND;TZID=America/New_York:20210119T190000
DTSTAMP:20260420T204534
CREATED:20201107T092856Z
LAST-MODIFIED:20210119T115738Z
UID:1029-1611079200-1611082800@cfcaeagles.org
SUMMARY:Girls Basketball Game (vs Freedom HS)
DESCRIPTION:Rooms:\nB115 // Cafe/Concessions // Men’s RR // Women’s Locker Room // Women’s RR // Worship Center/Gym
URL:https://cfcaeagles.org/event/girls-basketball-game-vs-freedom-hs/
END:VEVENT
END:VCALENDAR