BEGIN:VCALENDAR
VERSION:2.0
PRODID:-//Central Florida Christian Academy - ECPv6.11.2.1//NONSGML v1.0//EN
CALSCALE:GREGORIAN
METHOD:PUBLISH
X-WR-CALNAME:Central Florida Christian Academy
X-ORIGINAL-URL:https://cfcaeagles.org
X-WR-CALDESC:Events for Central Florida Christian Academy
REFRESH-INTERVAL;VALUE=DURATION:PT1H
X-Robots-Tag:noindex
X-PUBLISHED-TTL:PT1H
BEGIN:VTIMEZONE
TZID:America/New_York
BEGIN:DAYLIGHT
TZOFFSETFROM:-0500
TZOFFSETTO:-0400
TZNAME:EDT
DTSTART:20210314T070000
END:DAYLIGHT
BEGIN:STANDARD
TZOFFSETFROM:-0400
TZOFFSETTO:-0500
TZNAME:EST
DTSTART:20211107T060000
END:STANDARD
END:VTIMEZONE
BEGIN:VEVENT
DTSTART;VALUE=DATE:20210125
DTEND;VALUE=DATE:20210130
DTSTAMP:20260420T204112
CREATED:20210105T205759Z
LAST-MODIFIED:20210129T121242Z
UID:1215-1611532800-1611964799@cfcaeagles.org
SUMMARY:Homecoming Week
DESCRIPTION:
URL:https://cfcaeagles.org/event/homecoming-week/
END:VEVENT
BEGIN:VEVENT
DTSTART;TZID=America/New_York:20210126T160000
DTEND;TZID=America/New_York:20210126T170000
DTSTAMP:20260420T204112
CREATED:20201106T091137Z
LAST-MODIFIED:20210126T115735Z
UID:992-1611676800-1611680400@cfcaeagles.org
SUMMARY:MS Girls Basketball Game (at St. Luke's Lutheran)
DESCRIPTION:Rooms:\nSchool – Off Campus
URL:https://cfcaeagles.org/event/ms-girls-basketball-game-at-st-lukes-lutheran/
END:VEVENT
BEGIN:VEVENT
DTSTART;TZID=America/New_York:20210126T170000
DTEND;TZID=America/New_York:20210126T180000
DTSTAMP:20260420T204112
CREATED:20201106T091131Z
LAST-MODIFIED:20210126T115735Z
UID:991-1611680400-1611684000@cfcaeagles.org
SUMMARY:MS Boys Basketball Game (at St. Luke's Lutheran): MS Boys Basketball Game (at St. Lake's Lutheran)
DESCRIPTION:Rooms:\nSchool – Off Campus
URL:https://cfcaeagles.org/event/ms-boys-basketball-game-at-st-lukes-lutheran-ms-boys-basketball-game-at-st-lakes-lutheran/
END:VEVENT
BEGIN:VEVENT
DTSTART;TZID=America/New_York:20210126T173000
DTEND;TZID=America/New_York:20210126T203000
DTSTAMP:20260420T204112
CREATED:20201107T092958Z
LAST-MODIFIED:20210126T115735Z
UID:1036-1611682200-1611693000@cfcaeagles.org
SUMMARY:Boys Basketball Game (at Ocoee HS JV\, V)
DESCRIPTION:Rooms:\nSchool – Off Campus\nResources:\n1 Van 1
URL:https://cfcaeagles.org/event/boys-basketball-game-at-ocoee-hs-jv-v/
END:VEVENT
BEGIN:VEVENT
DTSTART;TZID=America/New_York:20210126T180000
DTEND;TZID=America/New_York:20210126T190000
DTSTAMP:20260420T204112
CREATED:20201107T093003Z
LAST-MODIFIED:20210126T115735Z
UID:1037-1611684000-1611687600@cfcaeagles.org
SUMMARY:Girls Basketball Game (at Orlando Christian)
DESCRIPTION:Rooms:\nSchool – Off Campus\nResources:\n1 Van 1
URL:https://cfcaeagles.org/event/girls-basketball-game-at-orlando-christian/
END:VEVENT
END:VCALENDAR