BEGIN:VCALENDAR
VERSION:2.0
PRODID:-//Central Florida Christian Academy - ECPv6.11.2.1//NONSGML v1.0//EN
CALSCALE:GREGORIAN
METHOD:PUBLISH
X-ORIGINAL-URL:https://cfcaeagles.org
X-WR-CALDESC:Events for Central Florida Christian Academy
REFRESH-INTERVAL;VALUE=DURATION:PT1H
X-Robots-Tag:noindex
X-PUBLISHED-TTL:PT1H
BEGIN:VTIMEZONE
TZID:America/New_York
BEGIN:DAYLIGHT
TZOFFSETFROM:-0500
TZOFFSETTO:-0400
TZNAME:EDT
DTSTART:20210314T070000
END:DAYLIGHT
BEGIN:STANDARD
TZOFFSETFROM:-0400
TZOFFSETTO:-0500
TZNAME:EST
DTSTART:20211107T060000
END:STANDARD
END:VTIMEZONE
BEGIN:VEVENT
DTSTART;TZID=America/New_York:20210204T160000
DTEND;TZID=America/New_York:20210204T200000
DTSTAMP:20260421T000215
CREATED:20201107T093044Z
LAST-MODIFIED:20210126T115736Z
UID:1042-1612454400-1612468800@cfcaeagles.org
SUMMARY:Girls Basketball District Tournament
DESCRIPTION:Rooms:\nB115 // Cafe/Concessions // Men’s RR // Women’s Locker Room // Women’s RR // Worship Center/Gym
URL:https://cfcaeagles.org/event/girls-basketball-district-tournament-2/
END:VEVENT
BEGIN:VEVENT
DTSTART;TZID=America/New_York:20210204T173000
DTEND;TZID=America/New_York:20210204T213000
DTSTAMP:20260421T000215
CREATED:20210203T122741Z
LAST-MODIFIED:20210204T122921Z
UID:1293-1612459800-1612474200@cfcaeagles.org
SUMMARY:Boys Basketball Game (vs Santa Fe)
DESCRIPTION:Rooms:\nB115 // Cafe/Concessions // Lobby // Men’s Locker Room // Men’s RR // Women’s Locker Room // Women’s RR // Worship Center/Gym
URL:https://cfcaeagles.org/event/boys-basketball-game-vs-santa-fe/
END:VEVENT
END:VCALENDAR