BEGIN:VCALENDAR
VERSION:2.0
PRODID:-//Central Florida Christian Academy - ECPv6.11.2.1//NONSGML v1.0//EN
CALSCALE:GREGORIAN
METHOD:PUBLISH
X-ORIGINAL-URL:https://cfcaeagles.org
X-WR-CALDESC:Events for Central Florida Christian Academy
REFRESH-INTERVAL;VALUE=DURATION:PT1H
X-Robots-Tag:noindex
X-PUBLISHED-TTL:PT1H
BEGIN:VTIMEZONE
TZID:America/New_York
BEGIN:DAYLIGHT
TZOFFSETFROM:-0500
TZOFFSETTO:-0400
TZNAME:EDT
DTSTART:20210314T070000
END:DAYLIGHT
BEGIN:STANDARD
TZOFFSETFROM:-0400
TZOFFSETTO:-0500
TZNAME:EST
DTSTART:20211107T060000
END:STANDARD
END:VTIMEZONE
BEGIN:VEVENT
DTSTART;TZID=America/New_York:20210211T123000
DTEND;TZID=America/New_York:20210211T150000
DTSTAMP:20260420T210824
CREATED:20201202T154134Z
LAST-MODIFIED:20210107T205759Z
UID:1142-1613046600-1613055600@cfcaeagles.org
SUMMARY:Winter Luau
DESCRIPTION:Rooms:\nFootball Field
URL:https://cfcaeagles.org/event/winter-luau/
LOCATION:Football Field
END:VEVENT
BEGIN:VEVENT
DTSTART;TZID=America/New_York:20210211T160000
DTEND;TZID=America/New_York:20210211T180000
DTSTAMP:20260420T210824
CREATED:20210209T125843Z
LAST-MODIFIED:20210211T131257Z
UID:1346-1613059200-1613066400@cfcaeagles.org
SUMMARY:MS Track Meet (at Geneva)
DESCRIPTION:Rooms:\nSchool – Off Campus
URL:https://cfcaeagles.org/event/ms-track-meet-at-geneva/
END:VEVENT
BEGIN:VEVENT
DTSTART;TZID=America/New_York:20210211T190000
DTEND;TZID=America/New_York:20210211T203000
DTSTAMP:20260420T210824
CREATED:20210203T122741Z
LAST-MODIFIED:20210209T125843Z
UID:1297-1613070000-1613075400@cfcaeagles.org
SUMMARY:Girls Basketball Regional Game
DESCRIPTION:Rooms:\nB115 // Cafe/Concessions // Men’s RR // Women’s Locker Room // Women’s RR // Worship Center/Gym
URL:https://cfcaeagles.org/event/girls-basketball-regional-game/
END:VEVENT
END:VCALENDAR