BEGIN:VCALENDAR
VERSION:2.0
PRODID:-//Central Florida Christian Academy - ECPv6.11.2.1//NONSGML v1.0//EN
CALSCALE:GREGORIAN
METHOD:PUBLISH
X-WR-CALNAME:Central Florida Christian Academy
X-ORIGINAL-URL:https://cfcaeagles.org
X-WR-CALDESC:Events for Central Florida Christian Academy
REFRESH-INTERVAL;VALUE=DURATION:PT1H
X-Robots-Tag:noindex
X-PUBLISHED-TTL:PT1H
BEGIN:VTIMEZONE
TZID:America/New_York
BEGIN:DAYLIGHT
TZOFFSETFROM:-0500
TZOFFSETTO:-0400
TZNAME:EDT
DTSTART:20210314T070000
END:DAYLIGHT
BEGIN:STANDARD
TZOFFSETFROM:-0400
TZOFFSETTO:-0500
TZNAME:EST
DTSTART:20211107T060000
END:STANDARD
END:VTIMEZONE
BEGIN:VEVENT
DTSTART;TZID=America/New_York:20210305T110000
DTEND;TZID=America/New_York:20210305T120000
DTSTAMP:20260420T204112
CREATED:20210304T144311Z
LAST-MODIFIED:20210305T145746Z
UID:1496-1614942000-1614945600@cfcaeagles.org
SUMMARY:Senior Off Campus Lunch
DESCRIPTION:Rooms:\nSchool – Off Campus\nResources:\n1 Van 1
URL:https://cfcaeagles.org/event/senior-off-campus-lunch/
END:VEVENT
BEGIN:VEVENT
DTSTART;TZID=America/New_York:20210305T163000
DTEND;TZID=America/New_York:20210305T183000
DTSTAMP:20260420T204112
CREATED:20210210T131258Z
LAST-MODIFIED:20210305T145746Z
UID:1382-1614961800-1614969000@cfcaeagles.org
SUMMARY:Girls Softball Game (at Legacy Charter)
DESCRIPTION:Rooms:\nSchool – Off Campus\nResources:\n1 Van 4
URL:https://cfcaeagles.org/event/girls-softball-game-at-legacy-charter/
END:VEVENT
BEGIN:VEVENT
DTSTART;TZID=America/New_York:20210305T170000
DTEND;TZID=America/New_York:20210305T180000
DTSTAMP:20260420T204112
CREATED:20210203T122743Z
LAST-MODIFIED:20210305T145746Z
UID:1310-1614963600-1614967200@cfcaeagles.org
SUMMARY:Boys Basketball State Tournament
DESCRIPTION:Rooms:\nSchool – Off Campus
URL:https://cfcaeagles.org/event/boys-basketball-state-tournament-3/
END:VEVENT
END:VCALENDAR