BEGIN:VCALENDAR
VERSION:2.0
PRODID:-//Central Florida Christian Academy - ECPv6.11.2.1//NONSGML v1.0//EN
CALSCALE:GREGORIAN
METHOD:PUBLISH
X-WR-CALNAME:Central Florida Christian Academy
X-ORIGINAL-URL:https://cfcaeagles.org
X-WR-CALDESC:Events for Central Florida Christian Academy
REFRESH-INTERVAL;VALUE=DURATION:PT1H
X-Robots-Tag:noindex
X-PUBLISHED-TTL:PT1H
BEGIN:VTIMEZONE
TZID:America/New_York
BEGIN:DAYLIGHT
TZOFFSETFROM:-0500
TZOFFSETTO:-0400
TZNAME:EDT
DTSTART:20210314T070000
END:DAYLIGHT
BEGIN:STANDARD
TZOFFSETFROM:-0400
TZOFFSETTO:-0500
TZNAME:EST
DTSTART:20211107T060000
END:STANDARD
END:VTIMEZONE
BEGIN:VEVENT
DTSTART;TZID=America/New_York:20211215T080000
DTEND;TZID=America/New_York:20211215T113000
DTSTAMP:20260421T133136
CREATED:20210916T215828Z
LAST-MODIFIED:20211005T221302Z
UID:2636-1639555200-1639567800@cfcaeagles.org
SUMMARY:Lower School Early Release (TK-K5 11:00am)
DESCRIPTION:
URL:https://cfcaeagles.org/event/lower-school-early-release-tk-k5-1100am-5/
END:VEVENT
BEGIN:VEVENT
DTSTART;TZID=America/New_York:20211215T080000
DTEND;TZID=America/New_York:20211215T113000
DTSTAMP:20260421T133136
CREATED:20210916T215828Z
LAST-MODIFIED:20211005T221302Z
UID:2637-1639555200-1639567800@cfcaeagles.org
SUMMARY:Semester Exams Early Release
DESCRIPTION:Rooms:\nWorship Center/Gym
URL:https://cfcaeagles.org/event/semester-exams-early-release-6/
LOCATION:Main Campus – 700 Good Homes Rd.\, Orlando\, FL 32818
END:VEVENT
END:VCALENDAR