BEGIN:VCALENDAR
VERSION:2.0
PRODID:-//Central Florida Christian Academy - ECPv6.11.2.1//NONSGML v1.0//EN
CALSCALE:GREGORIAN
METHOD:PUBLISH
X-WR-CALNAME:Central Florida Christian Academy
X-ORIGINAL-URL:https://cfcaeagles.org
X-WR-CALDESC:Events for Central Florida Christian Academy
REFRESH-INTERVAL;VALUE=DURATION:PT1H
X-Robots-Tag:noindex
X-PUBLISHED-TTL:PT1H
BEGIN:VTIMEZONE
TZID:America/New_York
BEGIN:DAYLIGHT
TZOFFSETFROM:-0500
TZOFFSETTO:-0400
TZNAME:EDT
DTSTART:20210314T070000
END:DAYLIGHT
BEGIN:STANDARD
TZOFFSETFROM:-0400
TZOFFSETTO:-0500
TZNAME:EST
DTSTART:20211107T060000
END:STANDARD
END:VTIMEZONE
BEGIN:VEVENT
DTSTART;TZID=America/New_York:20211217T073000
DTEND;TZID=America/New_York:20211217T153000
DTSTAMP:20260421T063449
CREATED:20210918T215809Z
LAST-MODIFIED:20211005T221302Z
UID:2661-1639726200-1639755000@cfcaeagles.org
SUMMARY:LS No School-End of 2nd Quarter
DESCRIPTION:
URL:https://cfcaeagles.org/event/ls-no-school-end-of-2nd-quarter-2/
END:VEVENT
BEGIN:VEVENT
DTSTART;TZID=America/New_York:20211217T080000
DTEND;TZID=America/New_York:20211217T113000
DTSTAMP:20260421T063449
CREATED:20210918T215809Z
LAST-MODIFIED:20211005T221302Z
UID:2660-1639728000-1639740600@cfcaeagles.org
SUMMARY:Semester Exams Early Release
DESCRIPTION:Rooms:\nWorship Center/Gym
URL:https://cfcaeagles.org/event/semester-exams-early-release-8/
LOCATION:Main Campus – 700 Good Homes Rd.\, Orlando\, FL 32818
END:VEVENT
END:VCALENDAR