BEGIN:VCALENDAR
VERSION:2.0
PRODID:-//Central Florida Christian Academy - ECPv6.11.2.1//NONSGML v1.0//EN
CALSCALE:GREGORIAN
METHOD:PUBLISH
X-ORIGINAL-URL:https://cfcaeagles.org
X-WR-CALDESC:Events for Central Florida Christian Academy
REFRESH-INTERVAL;VALUE=DURATION:PT1H
X-Robots-Tag:noindex
X-PUBLISHED-TTL:PT1H
BEGIN:VTIMEZONE
TZID:America/New_York
BEGIN:DAYLIGHT
TZOFFSETFROM:-0500
TZOFFSETTO:-0400
TZNAME:EDT
DTSTART:20220313T070000
END:DAYLIGHT
BEGIN:STANDARD
TZOFFSETFROM:-0400
TZOFFSETTO:-0500
TZNAME:EST
DTSTART:20221106T060000
END:STANDARD
END:VTIMEZONE
BEGIN:VEVENT
DTSTART;TZID=America/New_York:20220103T073000
DTEND;TZID=America/New_York:20220103T153000
DTSTAMP:20260419T215054
CREATED:20211005T221303Z
LAST-MODIFIED:20211005T221303Z
UID:2725-1641195000-1641223800@cfcaeagles.org
SUMMARY:Teacher Workday/ Student Holiday
DESCRIPTION:
URL:https://cfcaeagles.org/event/teacher-workday-student-holiday-2/
END:VEVENT
BEGIN:VEVENT
DTSTART;TZID=America/New_York:20220103T080000
DTEND;TZID=America/New_York:20220103T150000
DTSTAMP:20260419T215054
CREATED:20211005T221304Z
LAST-MODIFIED:20211005T221304Z
UID:2726-1641196800-1641222000@cfcaeagles.org
SUMMARY:No School- Christmas Holidays
DESCRIPTION:
URL:https://cfcaeagles.org/event/no-school-christmas-holidays-27/
END:VEVENT
END:VCALENDAR