BEGIN:VCALENDAR
VERSION:2.0
PRODID:-//Central Florida Christian Academy - ECPv6.11.2.1//NONSGML v1.0//EN
CALSCALE:GREGORIAN
METHOD:PUBLISH
X-ORIGINAL-URL:https://cfcaeagles.org
X-WR-CALDESC:Events for Central Florida Christian Academy
REFRESH-INTERVAL;VALUE=DURATION:PT1H
X-Robots-Tag:noindex
X-PUBLISHED-TTL:PT1H
BEGIN:VTIMEZONE
TZID:America/New_York
BEGIN:DAYLIGHT
TZOFFSETFROM:-0500
TZOFFSETTO:-0400
TZNAME:EDT
DTSTART:20220313T070000
END:DAYLIGHT
BEGIN:STANDARD
TZOFFSETFROM:-0400
TZOFFSETTO:-0500
TZNAME:EST
DTSTART:20221106T060000
END:STANDARD
END:VTIMEZONE
BEGIN:VEVENT
DTSTART;TZID=America/New_York:20220603T130000
DTEND;TZID=America/New_York:20220604T230000
DTSTAMP:20260420T183418
CREATED:20220517T015807Z
LAST-MODIFIED:20220604T142745Z
UID:3501-1654261200-1654383600@cfcaeagles.org
SUMMARY:Girls Basketball trip to Mercer University
DESCRIPTION:
URL:https://cfcaeagles.org/event/girls-basketball-trip-to-mercer-university/
LOCATION:Mercer College – Macon\, GA\, USA
END:VEVENT
BEGIN:VEVENT
DTSTART;TZID=America/New_York:20220604T070000
DTEND;TZID=America/New_York:20220604T163000
DTSTAMP:20260420T183418
CREATED:20220603T142801Z
LAST-MODIFIED:20220604T142745Z
UID:3966-1654326000-1654360200@cfcaeagles.org
SUMMARY:Basketball Training
DESCRIPTION:
URL:https://cfcaeagles.org/event/basketball-training/
END:VEVENT
END:VCALENDAR