BEGIN:VCALENDAR
VERSION:2.0
PRODID:-//Central Florida Christian Academy - ECPv6.11.2.1//NONSGML v1.0//EN
CALSCALE:GREGORIAN
METHOD:PUBLISH
X-ORIGINAL-URL:https://cfcaeagles.org
X-WR-CALDESC:Events for Central Florida Christian Academy
REFRESH-INTERVAL;VALUE=DURATION:PT1H
X-Robots-Tag:noindex
X-PUBLISHED-TTL:PT1H
BEGIN:VTIMEZONE
TZID:America/New_York
BEGIN:DAYLIGHT
TZOFFSETFROM:-0500
TZOFFSETTO:-0400
TZNAME:EDT
DTSTART:20220313T070000
END:DAYLIGHT
BEGIN:STANDARD
TZOFFSETFROM:-0400
TZOFFSETTO:-0500
TZNAME:EST
DTSTART:20221106T060000
END:STANDARD
END:VTIMEZONE
BEGIN:VEVENT
DTSTART;TZID=America/New_York:20220605T073000
DTEND;TZID=America/New_York:20220605T220000
DTSTAMP:20260420T214022
CREATED:20220603T142801Z
LAST-MODIFIED:20220605T142824Z
UID:3967-1654414200-1654466400@cfcaeagles.org
SUMMARY:FSU Football Camp
DESCRIPTION:
URL:https://cfcaeagles.org/event/fsu-football-camp/
END:VEVENT
BEGIN:VEVENT
DTSTART;TZID=America/New_York:20220605T150000
DTEND;TZID=America/New_York:20220605T164800
DTSTAMP:20260420T214022
CREATED:20220521T015738Z
LAST-MODIFIED:20220605T142824Z
UID:3531-1654441200-1654447680@cfcaeagles.org
SUMMARY:Aaron Jones Foundation (Lo Wood)
DESCRIPTION:
URL:https://cfcaeagles.org/event/aaron-jones-foundation-lo-wood-30/
END:VEVENT
END:VCALENDAR