BEGIN:VCALENDAR
VERSION:2.0
PRODID:-//Central Florida Christian Academy - ECPv6.11.2.1//NONSGML v1.0//EN
CALSCALE:GREGORIAN
METHOD:PUBLISH
X-WR-CALNAME:Central Florida Christian Academy
X-ORIGINAL-URL:https://cfcaeagles.org
X-WR-CALDESC:Events for Central Florida Christian Academy
REFRESH-INTERVAL;VALUE=DURATION:PT1H
X-Robots-Tag:noindex
X-PUBLISHED-TTL:PT1H
BEGIN:VTIMEZONE
TZID:America/New_York
BEGIN:DAYLIGHT
TZOFFSETFROM:-0500
TZOFFSETTO:-0400
TZNAME:EDT
DTSTART:20220313T070000
END:DAYLIGHT
BEGIN:STANDARD
TZOFFSETFROM:-0400
TZOFFSETTO:-0500
TZNAME:EST
DTSTART:20221106T060000
END:STANDARD
END:VTIMEZONE
BEGIN:VEVENT
DTSTART;TZID=America/New_York:20220627T140000
DTEND;TZID=America/New_York:20220629T160000
DTSTAMP:20260425T102425
CREATED:20220619T145745Z
LAST-MODIFIED:20220629T145744Z
UID:4149-1656338400-1656518400@cfcaeagles.org
SUMMARY:Cheer Tryouts
DESCRIPTION:
URL:https://cfcaeagles.org/event/cheer-tryouts/
END:VEVENT
BEGIN:VEVENT
DTSTART;TZID=America/New_York:20220629T070000
DTEND;TZID=America/New_York:20220629T140000
DTSTAMP:20260425T102425
CREATED:20220619T145745Z
LAST-MODIFIED:20220629T145744Z
UID:4150-1656486000-1656511200@cfcaeagles.org
SUMMARY:Boys Basketball
DESCRIPTION:
URL:https://cfcaeagles.org/event/boys-basketball-98/
END:VEVENT
BEGIN:VEVENT
DTSTART;TZID=America/New_York:20220629T070000
DTEND;TZID=America/New_York:20220629T160000
DTSTAMP:20260425T102425
CREATED:20220531T141246Z
LAST-MODIFIED:20220618T145746Z
UID:3772-1656486000-1656518400@cfcaeagles.org
SUMMARY:Boys Basketball
DESCRIPTION:
URL:https://cfcaeagles.org/event/boys-basketball-73/
END:VEVENT
BEGIN:VEVENT
DTSTART;TZID=America/New_York:20220629T100000
DTEND;TZID=America/New_York:20220629T120000
DTSTAMP:20260425T102425
CREATED:20220611T142743Z
LAST-MODIFIED:20220629T145744Z
UID:4016-1656496800-1656504000@cfcaeagles.org
SUMMARY:Football Workouts
DESCRIPTION:
URL:https://cfcaeagles.org/event/football-workouts-24/
END:VEVENT
BEGIN:VEVENT
DTSTART;TZID=America/New_York:20220629T133000
DTEND;TZID=America/New_York:20220629T153000
DTSTAMP:20260425T102425
CREATED:20220601T141242Z
LAST-MODIFIED:20220629T145744Z
UID:3917-1656509400-1656516600@cfcaeagles.org
SUMMARY:Girls Bball workout
DESCRIPTION:
URL:https://cfcaeagles.org/event/girls-bball-workout-10/
END:VEVENT
BEGIN:VEVENT
DTSTART;TZID=America/New_York:20220629T153000
DTEND;TZID=America/New_York:20220629T180000
DTSTAMP:20260425T102425
CREATED:20220413T184517Z
LAST-MODIFIED:20220526T015740Z
UID:2975-1656516600-1656525600@cfcaeagles.org
SUMMARY:Baseball Practice
DESCRIPTION:Rooms:\nBaseball Field
URL:https://cfcaeagles.org/event/baseball-practice-56/
END:VEVENT
BEGIN:VEVENT
DTSTART;TZID=America/New_York:20220629T153000
DTEND;TZID=America/New_York:20220629T180000
DTSTAMP:20260425T102425
CREATED:20220531T141246Z
LAST-MODIFIED:20220629T145744Z
UID:3771-1656516600-1656525600@cfcaeagles.org
SUMMARY:Girls AAU Practice
DESCRIPTION:
URL:https://cfcaeagles.org/event/girls-aau-practice-6/
END:VEVENT
BEGIN:VEVENT
DTSTART;TZID=America/New_York:20220629T160000
DTEND;TZID=America/New_York:20220629T180000
DTSTAMP:20260425T102425
CREATED:20220530T141239Z
LAST-MODIFIED:20220613T142748Z
UID:3711-1656518400-1656525600@cfcaeagles.org
SUMMARY:Girls AAU Practice
DESCRIPTION:
URL:https://cfcaeagles.org/event/girls-aau-practice/
LOCATION:Main Campus – 700 Good Homes Rd.\, Orlando\, FL 32818
END:VEVENT
END:VCALENDAR