BEGIN:VCALENDAR
VERSION:2.0
PRODID:-//Central Florida Christian Academy - ECPv6.11.2.1//NONSGML v1.0//EN
CALSCALE:GREGORIAN
METHOD:PUBLISH
X-ORIGINAL-URL:https://cfcaeagles.org
X-WR-CALDESC:Events for Central Florida Christian Academy
REFRESH-INTERVAL;VALUE=DURATION:PT1H
X-Robots-Tag:noindex
X-PUBLISHED-TTL:PT1H
BEGIN:VTIMEZONE
TZID:America/New_York
BEGIN:DAYLIGHT
TZOFFSETFROM:-0500
TZOFFSETTO:-0400
TZNAME:EDT
DTSTART:20220313T070000
END:DAYLIGHT
BEGIN:STANDARD
TZOFFSETFROM:-0400
TZOFFSETTO:-0500
TZNAME:EST
DTSTART:20221106T060000
END:STANDARD
END:VTIMEZONE
BEGIN:VEVENT
DTSTART;TZID=America/New_York:20220822T053000
DTEND;TZID=America/New_York:20220822T070000
DTSTAMP:20260425T102536
CREATED:20220816T175737Z
LAST-MODIFIED:20220821T182751Z
UID:4597-1661146200-1661151600@cfcaeagles.org
SUMMARY:Basketball Training
DESCRIPTION:
URL:https://cfcaeagles.org/event/basketball-training-18/
END:VEVENT
BEGIN:VEVENT
DTSTART;TZID=America/New_York:20220822T150000
DTEND;TZID=America/New_York:20220822T180000
DTSTAMP:20260425T102536
CREATED:20220726T165835Z
LAST-MODIFIED:20220822T182952Z
UID:4315-1661180400-1661191200@cfcaeagles.org
SUMMARY:Football Practice
DESCRIPTION:
URL:https://cfcaeagles.org/event/football-practice-16/
END:VEVENT
BEGIN:VEVENT
DTSTART;TZID=America/New_York:20220822T153000
DTEND;TZID=America/New_York:20220822T180000
DTSTAMP:20260425T102536
CREATED:20220524T015810Z
LAST-MODIFIED:20220526T015744Z
UID:3558-1661182200-1661191200@cfcaeagles.org
SUMMARY:Baseball Practice
DESCRIPTION:Rooms:\nBaseball Field
URL:https://cfcaeagles.org/event/baseball-practice-94/
END:VEVENT
BEGIN:VEVENT
DTSTART;TZID=America/New_York:20220822T160000
DTEND;TZID=America/New_York:20220822T210000
DTSTAMP:20260425T102536
CREATED:20220816T175738Z
LAST-MODIFIED:20220822T182952Z
UID:4598-1661184000-1661202000@cfcaeagles.org
SUMMARY:Basketball Training
DESCRIPTION:
URL:https://cfcaeagles.org/event/basketball-training-19/
END:VEVENT
BEGIN:VEVENT
DTSTART;TZID=America/New_York:20220822T170000
DTEND;TZID=America/New_York:20220822T203000
DTSTAMP:20260425T102536
CREATED:20220616T145800Z
LAST-MODIFIED:20220822T182951Z
UID:4128-1661187600-1661200200@cfcaeagles.org
SUMMARY:Volleyball Games (at All Saints Academy M/JV/V)
DESCRIPTION:
URL:https://cfcaeagles.org/event/volleyball-games-at-all-saints-academy-m-jv-v/
LOCATION:School – Off Campus – 700 Good Homes Rd
END:VEVENT
BEGIN:VEVENT
DTSTART;TZID=America/New_York:20220822T180000
DTEND;TZID=America/New_York:20220822T200000
DTSTAMP:20260425T102536
CREATED:20220524T015810Z
LAST-MODIFIED:20220822T182952Z
UID:3560-1661191200-1661198400@cfcaeagles.org
SUMMARY:West Orlando Jaguars
DESCRIPTION:
URL:https://cfcaeagles.org/event/west-orlando-jaguars-28/
END:VEVENT
BEGIN:VEVENT
DTSTART;TZID=America/New_York:20220822T183000
DTEND;TZID=America/New_York:20220822T200000
DTSTAMP:20260425T102536
CREATED:20220524T015810Z
LAST-MODIFIED:20220822T182952Z
UID:3559-1661193000-1661198400@cfcaeagles.org
SUMMARY:AP Parent Meeting
DESCRIPTION:
URL:https://cfcaeagles.org/event/ap-parent-meeting-3/
LOCATION:B119 – 700 Good Homes Rd
END:VEVENT
END:VCALENDAR