BEGIN:VCALENDAR
VERSION:2.0
PRODID:-//Central Florida Christian Academy - ECPv6.11.2.1//NONSGML v1.0//EN
CALSCALE:GREGORIAN
METHOD:PUBLISH
X-WR-CALNAME:Central Florida Christian Academy
X-ORIGINAL-URL:https://cfcaeagles.org
X-WR-CALDESC:Events for Central Florida Christian Academy
REFRESH-INTERVAL;VALUE=DURATION:PT1H
X-Robots-Tag:noindex
X-PUBLISHED-TTL:PT1H
BEGIN:VTIMEZONE
TZID:America/New_York
BEGIN:DAYLIGHT
TZOFFSETFROM:-0500
TZOFFSETTO:-0400
TZNAME:EDT
DTSTART:20220313T070000
END:DAYLIGHT
BEGIN:STANDARD
TZOFFSETFROM:-0400
TZOFFSETTO:-0500
TZNAME:EST
DTSTART:20221106T060000
END:STANDARD
END:VTIMEZONE
BEGIN:VEVENT
DTSTART;TZID=America/New_York:20220930T053000
DTEND;TZID=America/New_York:20220930T070000
DTSTAMP:20260424T000246
CREATED:20220816T175748Z
LAST-MODIFIED:20220830T021352Z
UID:4654-1664515800-1664521200@cfcaeagles.org
SUMMARY:Basketball Training
DESCRIPTION:
URL:https://cfcaeagles.org/event/basketball-training-75/
END:VEVENT
BEGIN:VEVENT
DTSTART;TZID=America/New_York:20220930T060000
DTEND;TZID=America/New_York:20220930T070000
DTSTAMP:20260424T000246
CREATED:20220831T021438Z
LAST-MODIFIED:20220930T035852Z
UID:4982-1664517600-1664521200@cfcaeagles.org
SUMMARY:Basketball Training
DESCRIPTION:
URL:https://cfcaeagles.org/event/basketball-training-183/
END:VEVENT
BEGIN:VEVENT
DTSTART;TZID=America/New_York:20220930T150000
DTEND;TZID=America/New_York:20220930T180000
DTSTAMP:20260424T000246
CREATED:20220726T165840Z
LAST-MODIFIED:20220828T192753Z
UID:4345-1664550000-1664560800@cfcaeagles.org
SUMMARY:Football Practice
DESCRIPTION:
URL:https://cfcaeagles.org/event/football-practice-45/
END:VEVENT
BEGIN:VEVENT
DTSTART;TZID=America/New_York:20220930T160000
DTEND;TZID=America/New_York:20220930T210000
DTSTAMP:20260424T000246
CREATED:20220816T175749Z
LAST-MODIFIED:20220930T035852Z
UID:4655-1664553600-1664571600@cfcaeagles.org
SUMMARY:Basketball Training
DESCRIPTION:
URL:https://cfcaeagles.org/event/basketball-training-76/
END:VEVENT
BEGIN:VEVENT
DTSTART;TZID=America/New_York:20220930T190000
DTEND;TZID=America/New_York:20220930T233000
DTSTAMP:20260424T000246
CREATED:20220702T145743Z
LAST-MODIFIED:20220928T035746Z
UID:4204-1664564400-1664580600@cfcaeagles.org
SUMMARY:Varsity Football Game (vs Foundation)
DESCRIPTION:
URL:https://cfcaeagles.org/event/varsity-football-game-vs-foundation/
LOCATION:Football Field – 700 Good Homes Rd
END:VEVENT
END:VCALENDAR