BEGIN:VCALENDAR
VERSION:2.0
PRODID:-//Central Florida Christian Academy - ECPv6.11.2.1//NONSGML v1.0//EN
CALSCALE:GREGORIAN
METHOD:PUBLISH
X-ORIGINAL-URL:https://cfcaeagles.org
X-WR-CALDESC:Events for Central Florida Christian Academy
REFRESH-INTERVAL;VALUE=DURATION:PT1H
X-Robots-Tag:noindex
X-PUBLISHED-TTL:PT1H
BEGIN:VTIMEZONE
TZID:America/New_York
BEGIN:DAYLIGHT
TZOFFSETFROM:-0500
TZOFFSETTO:-0400
TZNAME:EDT
DTSTART:20220313T070000
END:DAYLIGHT
BEGIN:STANDARD
TZOFFSETFROM:-0400
TZOFFSETTO:-0500
TZNAME:EST
DTSTART:20221106T060000
END:STANDARD
END:VTIMEZONE
BEGIN:VEVENT
DTSTART;TZID=America/New_York:20221026T053000
DTEND;TZID=America/New_York:20221026T070000
DTSTAMP:20260424T222153
CREATED:20220816T175756Z
LAST-MODIFIED:20220830T021354Z
UID:4691-1666762200-1666767600@cfcaeagles.org
SUMMARY:Basketball Training
DESCRIPTION:
URL:https://cfcaeagles.org/event/basketball-training-112/
END:VEVENT
BEGIN:VEVENT
DTSTART;TZID=America/New_York:20221026T060000
DTEND;TZID=America/New_York:20221026T070000
DTSTAMP:20260424T222153
CREATED:20220831T021444Z
LAST-MODIFIED:20221026T044245Z
UID:5001-1666764000-1666767600@cfcaeagles.org
SUMMARY:Basketball Training
DESCRIPTION:
URL:https://cfcaeagles.org/event/basketball-training-201/
END:VEVENT
BEGIN:VEVENT
DTSTART;TZID=America/New_York:20221026T070000
DTEND;TZID=America/New_York:20221026T200000
DTSTAMP:20260424T222153
CREATED:20220913T031245Z
LAST-MODIFIED:20220913T031303Z
UID:5199-1666767600-1666814400@cfcaeagles.org
SUMMARY:Chapel Band Practice
DESCRIPTION:
URL:https://cfcaeagles.org/event/chapel-band-practice-14/
END:VEVENT
BEGIN:VEVENT
DTSTART;TZID=America/New_York:20221026T073000
DTEND;TZID=America/New_York:20221026T153000
DTSTAMP:20260424T222153
CREATED:20220728T171300Z
LAST-MODIFIED:20221026T044245Z
UID:4441-1666769400-1666798200@cfcaeagles.org
SUMMARY:Red Ribbon Week
DESCRIPTION:
URL:https://cfcaeagles.org/event/red-ribbon-week-18/
END:VEVENT
BEGIN:VEVENT
DTSTART;TZID=America/New_York:20221026T150000
DTEND;TZID=America/New_York:20221026T180000
DTSTAMP:20260424T222153
CREATED:20220728T171300Z
LAST-MODIFIED:20220828T192755Z
UID:4442-1666796400-1666807200@cfcaeagles.org
SUMMARY:Football Practice
DESCRIPTION:
URL:https://cfcaeagles.org/event/football-practice-63/
END:VEVENT
END:VCALENDAR