BEGIN:VCALENDAR
VERSION:2.0
PRODID:-//Central Florida Christian Academy - ECPv6.11.2.1//NONSGML v1.0//EN
CALSCALE:GREGORIAN
METHOD:PUBLISH
X-ORIGINAL-URL:https://cfcaeagles.org
X-WR-CALDESC:Events for Central Florida Christian Academy
REFRESH-INTERVAL;VALUE=DURATION:PT1H
X-Robots-Tag:noindex
X-PUBLISHED-TTL:PT1H
BEGIN:VTIMEZONE
TZID:America/New_York
BEGIN:DAYLIGHT
TZOFFSETFROM:-0500
TZOFFSETTO:-0400
TZNAME:EDT
DTSTART:20220313T070000
END:DAYLIGHT
BEGIN:STANDARD
TZOFFSETFROM:-0400
TZOFFSETTO:-0500
TZNAME:EST
DTSTART:20221106T060000
END:STANDARD
END:VTIMEZONE
BEGIN:VEVENT
DTSTART;TZID=America/New_York:20221031T053000
DTEND;TZID=America/New_York:20221031T070000
DTSTAMP:20260424T000452
CREATED:20220816T175758Z
LAST-MODIFIED:20220830T021354Z
UID:4697-1667194200-1667199600@cfcaeagles.org
SUMMARY:Basketball Training
DESCRIPTION:
URL:https://cfcaeagles.org/event/basketball-training-118/
END:VEVENT
BEGIN:VEVENT
DTSTART;TZID=America/New_York:20221031T060000
DTEND;TZID=America/New_York:20221031T070000
DTSTAMP:20260424T000452
CREATED:20220831T021445Z
LAST-MODIFIED:20221028T054533Z
UID:5004-1667196000-1667199600@cfcaeagles.org
SUMMARY:Basketball Training
DESCRIPTION:
URL:https://cfcaeagles.org/event/basketball-training-204/
END:VEVENT
BEGIN:VEVENT
DTSTART;TZID=America/New_York:20221031T150000
DTEND;TZID=America/New_York:20221031T180000
DTSTAMP:20260424T000452
CREATED:20220802T172809Z
LAST-MODIFIED:20220828T192755Z
UID:4466-1667228400-1667239200@cfcaeagles.org
SUMMARY:Football Practice
DESCRIPTION:
URL:https://cfcaeagles.org/event/football-practice-66/
END:VEVENT
BEGIN:VEVENT
DTSTART;TZID=America/New_York:20221031T160000
DTEND;TZID=America/New_York:20221031T210000
DTSTAMP:20260424T000452
CREATED:20220816T175758Z
LAST-MODIFIED:20221028T054533Z
UID:4698-1667232000-1667250000@cfcaeagles.org
SUMMARY:Basketball Training
DESCRIPTION:
URL:https://cfcaeagles.org/event/basketball-training-119/
END:VEVENT
BEGIN:VEVENT
DTSTART;TZID=America/New_York:20221031T180000
DTEND;TZID=America/New_York:20221031T200000
DTSTAMP:20260424T000452
CREATED:20220802T172809Z
LAST-MODIFIED:20221028T054533Z
UID:4465-1667239200-1667246400@cfcaeagles.org
SUMMARY:West Orlando Jaguars
DESCRIPTION:
URL:https://cfcaeagles.org/event/west-orlando-jaguars-47/
END:VEVENT
END:VCALENDAR