BEGIN:VCALENDAR
VERSION:2.0
PRODID:-//Central Florida Christian Academy - ECPv6.11.2.1//NONSGML v1.0//EN
CALSCALE:GREGORIAN
METHOD:PUBLISH
X-ORIGINAL-URL:https://cfcaeagles.org
X-WR-CALDESC:Events for Central Florida Christian Academy
REFRESH-INTERVAL;VALUE=DURATION:PT1H
X-Robots-Tag:noindex
X-PUBLISHED-TTL:PT1H
BEGIN:VTIMEZONE
TZID:America/New_York
BEGIN:DAYLIGHT
TZOFFSETFROM:-0500
TZOFFSETTO:-0400
TZNAME:EDT
DTSTART:20220313T070000
END:DAYLIGHT
BEGIN:STANDARD
TZOFFSETFROM:-0400
TZOFFSETTO:-0500
TZNAME:EST
DTSTART:20221106T060000
END:STANDARD
END:VTIMEZONE
BEGIN:VEVENT
DTSTART;TZID=America/New_York:20221103T053000
DTEND;TZID=America/New_York:20221103T070000
DTSTAMP:20260423T203010
CREATED:20220816T175759Z
LAST-MODIFIED:20220830T021354Z
UID:4702-1667453400-1667458800@cfcaeagles.org
SUMMARY:Basketball Training
DESCRIPTION:
URL:https://cfcaeagles.org/event/basketball-training-123/
END:VEVENT
BEGIN:VEVENT
DTSTART;TZID=America/New_York:20221103T060000
DTEND;TZID=America/New_York:20221103T070000
DTSTAMP:20260423T203010
CREATED:20220831T021445Z
LAST-MODIFIED:20221103T055743Z
UID:5007-1667455200-1667458800@cfcaeagles.org
SUMMARY:Basketball Training
DESCRIPTION:
URL:https://cfcaeagles.org/event/basketball-training-207/
END:VEVENT
BEGIN:VEVENT
DTSTART;TZID=America/New_York:20221103T150000
DTEND;TZID=America/New_York:20221103T180000
DTSTAMP:20260423T203010
CREATED:20220805T172754Z
LAST-MODIFIED:20220828T192755Z
UID:4480-1667487600-1667498400@cfcaeagles.org
SUMMARY:Football Practice
DESCRIPTION:
URL:https://cfcaeagles.org/event/football-practice-69/
END:VEVENT
BEGIN:VEVENT
DTSTART;TZID=America/New_York:20221103T160000
DTEND;TZID=America/New_York:20221103T210000
DTSTAMP:20260423T203010
CREATED:20220816T175759Z
LAST-MODIFIED:20221103T055743Z
UID:4703-1667491200-1667509200@cfcaeagles.org
SUMMARY:Basketball Training
DESCRIPTION:
URL:https://cfcaeagles.org/event/basketball-training-124/
END:VEVENT
BEGIN:VEVENT
DTSTART;TZID=America/New_York:20221103T183000
DTEND;TZID=America/New_York:20221103T200000
DTSTAMP:20260423T203010
CREATED:20220805T172754Z
LAST-MODIFIED:20221103T055743Z
UID:4481-1667500200-1667505600@cfcaeagles.org
SUMMARY:West Orlando Jaguars Football
DESCRIPTION:
URL:https://cfcaeagles.org/event/west-orlando-jaguars-football-30/
END:VEVENT
END:VCALENDAR