BEGIN:VCALENDAR
VERSION:2.0
PRODID:-//Central Florida Christian Academy - ECPv6.11.2.1//NONSGML v1.0//EN
CALSCALE:GREGORIAN
METHOD:PUBLISH
X-WR-CALNAME:Central Florida Christian Academy
X-ORIGINAL-URL:https://cfcaeagles.org
X-WR-CALDESC:Events for Central Florida Christian Academy
REFRESH-INTERVAL;VALUE=DURATION:PT1H
X-Robots-Tag:noindex
X-PUBLISHED-TTL:PT1H
BEGIN:VTIMEZONE
TZID:America/New_York
BEGIN:DAYLIGHT
TZOFFSETFROM:-0500
TZOFFSETTO:-0400
TZNAME:EDT
DTSTART:20220313T070000
END:DAYLIGHT
BEGIN:STANDARD
TZOFFSETFROM:-0400
TZOFFSETTO:-0500
TZNAME:EST
DTSTART:20221106T060000
END:STANDARD
END:VTIMEZONE
BEGIN:VEVENT
DTSTART;TZID=America/New_York:20221104T053000
DTEND;TZID=America/New_York:20221104T070000
DTSTAMP:20260423T202645
CREATED:20220816T175759Z
LAST-MODIFIED:20220830T021354Z
UID:4704-1667539800-1667545200@cfcaeagles.org
SUMMARY:Basketball Training
DESCRIPTION:
URL:https://cfcaeagles.org/event/basketball-training-125/
END:VEVENT
BEGIN:VEVENT
DTSTART;TZID=America/New_York:20221104T060000
DTEND;TZID=America/New_York:20221104T070000
DTSTAMP:20260423T202645
CREATED:20220831T021445Z
LAST-MODIFIED:20221104T055733Z
UID:5008-1667541600-1667545200@cfcaeagles.org
SUMMARY:Basketball Training
DESCRIPTION:
URL:https://cfcaeagles.org/event/basketball-training-208/
END:VEVENT
BEGIN:VEVENT
DTSTART;TZID=America/New_York:20221104T150000
DTEND;TZID=America/New_York:20221104T163000
DTSTAMP:20260423T202645
CREATED:20221101T055734Z
LAST-MODIFIED:20221104T055733Z
UID:5445-1667574000-1667579400@cfcaeagles.org
SUMMARY:Football Pre Game Meal
DESCRIPTION:
URL:https://cfcaeagles.org/event/football-pre-game-meal-2/
END:VEVENT
BEGIN:VEVENT
DTSTART;TZID=America/New_York:20221104T150000
DTEND;TZID=America/New_York:20221104T180000
DTSTAMP:20260423T202645
CREATED:20220806T172748Z
LAST-MODIFIED:20220828T192755Z
UID:4485-1667574000-1667584800@cfcaeagles.org
SUMMARY:Football Practice
DESCRIPTION:
URL:https://cfcaeagles.org/event/football-practice-70/
END:VEVENT
BEGIN:VEVENT
DTSTART;TZID=America/New_York:20221104T160000
DTEND;TZID=America/New_York:20221104T210000
DTSTAMP:20260423T202645
CREATED:20220816T175759Z
LAST-MODIFIED:20221104T055733Z
UID:4705-1667577600-1667595600@cfcaeagles.org
SUMMARY:Basketball Training
DESCRIPTION:
URL:https://cfcaeagles.org/event/basketball-training-126/
END:VEVENT
BEGIN:VEVENT
DTSTART;TZID=America/New_York:20221104T190000
DTEND;TZID=America/New_York:20221105T000000
DTSTAMP:20260423T202645
CREATED:20220806T172748Z
LAST-MODIFIED:20221104T055733Z
UID:4486-1667588400-1667606400@cfcaeagles.org
SUMMARY:Varsity Football-Playoff Game : CFCA vs. Master’s Academy
DESCRIPTION:
URL:https://cfcaeagles.org/event/varsity-football-playoff-game-cfca-vs-masters-academy-2/
END:VEVENT
END:VCALENDAR