BEGIN:VCALENDAR
VERSION:2.0
PRODID:-//Central Florida Christian Academy - ECPv6.11.2.1//NONSGML v1.0//EN
CALSCALE:GREGORIAN
METHOD:PUBLISH
X-ORIGINAL-URL:https://cfcaeagles.org
X-WR-CALDESC:Events for Central Florida Christian Academy
REFRESH-INTERVAL;VALUE=DURATION:PT1H
X-Robots-Tag:noindex
X-PUBLISHED-TTL:PT1H
BEGIN:VTIMEZONE
TZID:America/New_York
BEGIN:DAYLIGHT
TZOFFSETFROM:-0500
TZOFFSETTO:-0400
TZNAME:EDT
DTSTART:20220313T070000
END:DAYLIGHT
BEGIN:STANDARD
TZOFFSETFROM:-0400
TZOFFSETTO:-0500
TZNAME:EST
DTSTART:20221106T060000
END:STANDARD
END:VTIMEZONE
BEGIN:VEVENT
DTSTART;TZID=America/New_York:20221105T070000
DTEND;TZID=America/New_York:20221105T170000
DTSTAMP:20260424T062149
CREATED:20220816T175800Z
LAST-MODIFIED:20221004T041254Z
UID:4706-1667631600-1667667600@cfcaeagles.org
SUMMARY:Basketball Training
DESCRIPTION:
URL:https://cfcaeagles.org/event/basketball-training-127/
END:VEVENT
BEGIN:VEVENT
DTSTART;TZID=America/New_York:20221105T080000
DTEND;TZID=America/New_York:20221105T183000
DTSTAMP:20260424T062149
CREATED:20221025T044240Z
LAST-MODIFIED:20221105T055742Z
UID:5430-1667635200-1667673000@cfcaeagles.org
SUMMARY:Youth Football Games (Lo Wood)
DESCRIPTION:
URL:https://cfcaeagles.org/event/youth-football-games-lo-wood/
END:VEVENT
BEGIN:VEVENT
DTSTART;TZID=America/New_York:20221105T130000
DTEND;TZID=America/New_York:20221105T180000
DTSTAMP:20260424T062149
CREATED:20221005T041318Z
LAST-MODIFIED:20221105T055742Z
UID:5384-1667653200-1667671200@cfcaeagles.org
SUMMARY:Boys Basketball 3 on 3
DESCRIPTION:
URL:https://cfcaeagles.org/event/boys-basketball-3-on-3-5/
END:VEVENT
END:VCALENDAR