BEGIN:VCALENDAR
VERSION:2.0
PRODID:-//Central Florida Christian Academy - ECPv6.11.2.1//NONSGML v1.0//EN
CALSCALE:GREGORIAN
METHOD:PUBLISH
X-WR-CALNAME:Central Florida Christian Academy
X-ORIGINAL-URL:https://cfcaeagles.org
X-WR-CALDESC:Events for Central Florida Christian Academy
REFRESH-INTERVAL;VALUE=DURATION:PT1H
X-Robots-Tag:noindex
X-PUBLISHED-TTL:PT1H
BEGIN:VTIMEZONE
TZID:America/New_York
BEGIN:DAYLIGHT
TZOFFSETFROM:-0500
TZOFFSETTO:-0400
TZNAME:EDT
DTSTART:20220313T070000
END:DAYLIGHT
BEGIN:STANDARD
TZOFFSETFROM:-0400
TZOFFSETTO:-0500
TZNAME:EST
DTSTART:20221106T060000
END:STANDARD
END:VTIMEZONE
BEGIN:VEVENT
DTSTART;TZID=America/New_York:20221116T053000
DTEND;TZID=America/New_York:20221116T070000
DTSTAMP:20260424T032101
CREATED:20220818T175752Z
LAST-MODIFIED:20220830T021355Z
UID:4863-1668576600-1668582000@cfcaeagles.org
SUMMARY:Basketball Training
DESCRIPTION:
URL:https://cfcaeagles.org/event/basketball-training-142/
END:VEVENT
BEGIN:VEVENT
DTSTART;TZID=America/New_York:20221116T060000
DTEND;TZID=America/New_York:20221116T070000
DTSTAMP:20260424T032101
CREATED:20220831T021448Z
LAST-MODIFIED:20221116T062741Z
UID:5016-1668578400-1668582000@cfcaeagles.org
SUMMARY:Basketball Training
DESCRIPTION:
URL:https://cfcaeagles.org/event/basketball-training-216/
END:VEVENT
BEGIN:VEVENT
DTSTART;TZID=America/New_York:20221116T070000
DTEND;TZID=America/New_York:20221116T200000
DTSTAMP:20260424T032101
CREATED:20220913T031248Z
LAST-MODIFIED:20220913T031304Z
UID:5205-1668582000-1668628800@cfcaeagles.org
SUMMARY:Chapel Band Practice
DESCRIPTION:
URL:https://cfcaeagles.org/event/chapel-band-practice-20/
END:VEVENT
BEGIN:VEVENT
DTSTART;TZID=America/New_York:20221116T150000
DTEND;TZID=America/New_York:20221116T180000
DTSTAMP:20260424T032101
CREATED:20220818T175752Z
LAST-MODIFIED:20220828T192756Z
UID:4864-1668610800-1668621600@cfcaeagles.org
SUMMARY:Football Practice
DESCRIPTION:
URL:https://cfcaeagles.org/event/football-practice-78/
END:VEVENT
END:VCALENDAR