BEGIN:VCALENDAR
VERSION:2.0
PRODID:-//Central Florida Christian Academy - ECPv6.11.2.1//NONSGML v1.0//EN
CALSCALE:GREGORIAN
METHOD:PUBLISH
X-ORIGINAL-URL:https://cfcaeagles.org
X-WR-CALDESC:Events for Central Florida Christian Academy
REFRESH-INTERVAL;VALUE=DURATION:PT1H
X-Robots-Tag:noindex
X-PUBLISHED-TTL:PT1H
BEGIN:VTIMEZONE
TZID:America/New_York
BEGIN:DAYLIGHT
TZOFFSETFROM:-0500
TZOFFSETTO:-0400
TZNAME:EDT
DTSTART:20220313T070000
END:DAYLIGHT
BEGIN:STANDARD
TZOFFSETFROM:-0400
TZOFFSETTO:-0500
TZNAME:EST
DTSTART:20221106T060000
END:STANDARD
END:VTIMEZONE
BEGIN:VEVENT
DTSTART;TZID=America/New_York:20221121T053000
DTEND;TZID=America/New_York:20221121T070000
DTSTAMP:20260424T000636
CREATED:20220823T184414Z
LAST-MODIFIED:20220830T021355Z
UID:4899-1669008600-1669014000@cfcaeagles.org
SUMMARY:Basketball Training
DESCRIPTION:
URL:https://cfcaeagles.org/event/basketball-training-148/
END:VEVENT
BEGIN:VEVENT
DTSTART;TZID=America/New_York:20221121T060000
DTEND;TZID=America/New_York:20221121T070000
DTSTAMP:20260424T000636
CREATED:20220831T021448Z
LAST-MODIFIED:20221121T065750Z
UID:5019-1669010400-1669014000@cfcaeagles.org
SUMMARY:Basketball Training
DESCRIPTION:
URL:https://cfcaeagles.org/event/basketball-training-219/
END:VEVENT
BEGIN:VEVENT
DTSTART;TZID=America/New_York:20221121T073000
DTEND;TZID=America/New_York:20221121T153000
DTSTAMP:20260424T000636
CREATED:20220823T184414Z
LAST-MODIFIED:20221121T065750Z
UID:4900-1669015800-1669044600@cfcaeagles.org
SUMMARY:No School- Thanksgiving Break
DESCRIPTION:
URL:https://cfcaeagles.org/event/no-school-thanksgiving-break-11/
END:VEVENT
BEGIN:VEVENT
DTSTART;TZID=America/New_York:20221121T153000
DTEND;TZID=America/New_York:20221121T200000
DTSTAMP:20260424T000636
CREATED:20221119T064234Z
LAST-MODIFIED:20221121T065750Z
UID:5498-1669044600-1669060800@cfcaeagles.org
SUMMARY:Basketball Training
DESCRIPTION:
URL:https://cfcaeagles.org/event/basketball-training-272/
END:VEVENT
BEGIN:VEVENT
DTSTART;TZID=America/New_York:20221121T160000
DTEND;TZID=America/New_York:20221121T210000
DTSTAMP:20260424T000636
CREATED:20220823T184414Z
LAST-MODIFIED:20221121T065750Z
UID:4902-1669046400-1669064400@cfcaeagles.org
SUMMARY:Basketball Training
DESCRIPTION:
URL:https://cfcaeagles.org/event/basketball-training-149/
END:VEVENT
BEGIN:VEVENT
DTSTART;TZID=America/New_York:20221121T180000
DTEND;TZID=America/New_York:20221121T200000
DTSTAMP:20260424T000636
CREATED:20220823T184414Z
LAST-MODIFIED:20221117T062803Z
UID:4901-1669053600-1669060800@cfcaeagles.org
SUMMARY:West Orlando Jaguars
DESCRIPTION:
URL:https://cfcaeagles.org/event/west-orlando-jaguars-53/
END:VEVENT
END:VCALENDAR