BEGIN:VCALENDAR
VERSION:2.0
PRODID:-//Central Florida Christian Academy - ECPv6.11.2.1//NONSGML v1.0//EN
CALSCALE:GREGORIAN
METHOD:PUBLISH
X-WR-CALNAME:Central Florida Christian Academy
X-ORIGINAL-URL:https://cfcaeagles.org
X-WR-CALDESC:Events for Central Florida Christian Academy
REFRESH-INTERVAL;VALUE=DURATION:PT1H
X-Robots-Tag:noindex
X-PUBLISHED-TTL:PT1H
BEGIN:VTIMEZONE
TZID:America/New_York
BEGIN:DAYLIGHT
TZOFFSETFROM:-0500
TZOFFSETTO:-0400
TZNAME:EDT
DTSTART:20230312T070000
END:DAYLIGHT
BEGIN:STANDARD
TZOFFSETFROM:-0400
TZOFFSETTO:-0500
TZNAME:EST
DTSTART:20231105T060000
END:STANDARD
END:VTIMEZONE
BEGIN:VEVENT
DTSTART;TZID=America/New_York:20230418T070000
DTEND;TZID=America/New_York:20230418T080000
DTSTAMP:20260424T122902
CREATED:20230118T075752Z
LAST-MODIFIED:20230418T105936Z
UID:5820-1681801200-1681804800@cfcaeagles.org
SUMMARY:Chapel Band Practice
DESCRIPTION:
URL:https://cfcaeagles.org/event/chapel-band-practice-46/
END:VEVENT
BEGIN:VEVENT
DTSTART;TZID=America/New_York:20230418T160000
DTEND;TZID=America/New_York:20230418T190000
DTSTAMP:20260424T122902
CREATED:20230209T084246Z
LAST-MODIFIED:20230418T105936Z
UID:5920-1681833600-1681844400@cfcaeagles.org
SUMMARY:Varsity Baseball (Home Game) vs. Foundation Christian
DESCRIPTION:
URL:https://cfcaeagles.org/event/varsity-baseball-home-game-vs-foundation-christian/
END:VEVENT
END:VCALENDAR