BEGIN:VCALENDAR
VERSION:2.0
PRODID:-//Central Florida Christian Academy - ECPv6.11.2.1//NONSGML v1.0//EN
CALSCALE:GREGORIAN
METHOD:PUBLISH
X-WR-CALNAME:Central Florida Christian Academy
X-ORIGINAL-URL:https://cfcaeagles.org
X-WR-CALDESC:Events for Central Florida Christian Academy
REFRESH-INTERVAL;VALUE=DURATION:PT1H
X-Robots-Tag:noindex
X-PUBLISHED-TTL:PT1H
BEGIN:VTIMEZONE
TZID:America/New_York
BEGIN:DAYLIGHT
TZOFFSETFROM:-0500
TZOFFSETTO:-0400
TZNAME:EDT
DTSTART:20230312T070000
END:DAYLIGHT
BEGIN:STANDARD
TZOFFSETFROM:-0400
TZOFFSETTO:-0500
TZNAME:EST
DTSTART:20231105T060000
END:STANDARD
END:VTIMEZONE
BEGIN:VEVENT
DTSTART;TZID=America/New_York:20230503T092000
DTEND;TZID=America/New_York:20230503T104000
DTSTAMP:20260422T030259
CREATED:20230404T104234Z
LAST-MODIFIED:20230503T111439Z
UID:6123-1683105600-1683110400@cfcaeagles.org
SUMMARY:Senior Chapel
DESCRIPTION:
URL:https://cfcaeagles.org/event/senior-chapel-7/
LOCATION:Main Campus – 700 Good Homes Rd.\, Orlando\, FL 32818
END:VEVENT
BEGIN:VEVENT
DTSTART;TZID=America/New_York:20230503T130000
DTEND;TZID=America/New_York:20230503T143000
DTSTAMP:20260422T030259
CREATED:20230202T084406Z
LAST-MODIFIED:20230403T104238Z
UID:5877-1683118800-1683124200@cfcaeagles.org
SUMMARY:Senior Chapel
DESCRIPTION:
URL:https://cfcaeagles.org/event/senior-chapel-6/
LOCATION:Main Campus – 700 Good Homes Rd.\, Orlando\, FL 32818
END:VEVENT
END:VCALENDAR