BEGIN:VCALENDAR
VERSION:2.0
PRODID:-//Central Florida Christian Academy - ECPv6.11.2.1//NONSGML v1.0//EN
CALSCALE:GREGORIAN
METHOD:PUBLISH
X-WR-CALNAME:Central Florida Christian Academy
X-ORIGINAL-URL:https://cfcaeagles.org
X-WR-CALDESC:Events for Central Florida Christian Academy
REFRESH-INTERVAL;VALUE=DURATION:PT1H
X-Robots-Tag:noindex
X-PUBLISHED-TTL:PT1H
BEGIN:VTIMEZONE
TZID:America/New_York
BEGIN:DAYLIGHT
TZOFFSETFROM:-0500
TZOFFSETTO:-0400
TZNAME:EDT
DTSTART:20230312T070000
END:DAYLIGHT
BEGIN:STANDARD
TZOFFSETFROM:-0400
TZOFFSETTO:-0500
TZNAME:EST
DTSTART:20231105T060000
END:STANDARD
END:VTIMEZONE
BEGIN:VEVENT
DTSTART;TZID=America/New_York:20230516T070000
DTEND;TZID=America/New_York:20230516T080000
DTSTAMP:20260422T030300
CREATED:20230215T091244Z
LAST-MODIFIED:20230515T115937Z
UID:5966-1684220400-1684224000@cfcaeagles.org
SUMMARY:Chapel Band Practice
DESCRIPTION:
URL:https://cfcaeagles.org/event/chapel-band-practice-50/
END:VEVENT
BEGIN:VEVENT
DTSTART;TZID=America/New_York:20230516T083000
DTEND;TZID=America/New_York:20230516T100000
DTSTAMP:20260422T030300
CREATED:20230215T091244Z
LAST-MODIFIED:20230516T120014Z
UID:5967-1684225800-1684231200@cfcaeagles.org
SUMMARY:Senior Breakfast: Senior Breakfast in the lobby
DESCRIPTION:
URL:https://cfcaeagles.org/event/senior-breakfast-senior-breakfast-in-the-lobby-2/
LOCATION:Main Campus – 700 Good Homes Rd.\, Orlando\, FL 32818
END:VEVENT
BEGIN:VEVENT
DTSTART;TZID=America/New_York:20230516T090000
DTEND;TZID=America/New_York:20230516T103000
DTSTAMP:20260422T030300
CREATED:20230215T091245Z
LAST-MODIFIED:20230516T120014Z
UID:5969-1684227600-1684233000@cfcaeagles.org
SUMMARY:Senior Breakfast: Family graduation practice
DESCRIPTION:
URL:https://cfcaeagles.org/event/senior-breakfast-family-graduation-practice-2/
LOCATION:Main Campus – 700 Good Homes Rd.\, Orlando\, FL 32818
END:VEVENT
BEGIN:VEVENT
DTSTART;TZID=America/New_York:20230516T103000
DTEND;TZID=America/New_York:20230516T113000
DTSTAMP:20260422T030300
CREATED:20230215T091244Z
LAST-MODIFIED:20230516T120014Z
UID:5968-1684233000-1684236600@cfcaeagles.org
SUMMARY:Senior Breakfast: Jr/Sr Graduation practice
DESCRIPTION:
URL:https://cfcaeagles.org/event/senior-breakfast-jr-sr-graduation-practice-2/
LOCATION:Main Campus – 700 Good Homes Rd.\, Orlando\, FL 32818
END:VEVENT
END:VCALENDAR