BEGIN:VCALENDAR
VERSION:2.0
PRODID:-//Central Florida Christian Academy - ECPv6.11.2.1//NONSGML v1.0//EN
CALSCALE:GREGORIAN
METHOD:PUBLISH
X-ORIGINAL-URL:https://cfcaeagles.org
X-WR-CALDESC:Events for Central Florida Christian Academy
REFRESH-INTERVAL;VALUE=DURATION:PT1H
X-Robots-Tag:noindex
X-PUBLISHED-TTL:PT1H
BEGIN:VTIMEZONE
TZID:America/New_York
BEGIN:DAYLIGHT
TZOFFSETFROM:-0500
TZOFFSETTO:-0400
TZNAME:EDT
DTSTART:20230312T070000
END:DAYLIGHT
BEGIN:STANDARD
TZOFFSETFROM:-0400
TZOFFSETTO:-0500
TZNAME:EST
DTSTART:20231105T060000
END:STANDARD
END:VTIMEZONE
BEGIN:VEVENT
DTSTART;TZID=America/New_York:20230519T150000
DTEND;TZID=America/New_York:20230519T160500
DTSTAMP:20260422T030533
CREATED:20230218T091238Z
LAST-MODIFIED:20230519T120037Z
UID:5989-1684508400-1684512300@cfcaeagles.org
SUMMARY:Art Club
DESCRIPTION:
URL:https://cfcaeagles.org/event/art-club-34/
END:VEVENT
BEGIN:VEVENT
DTSTART;TZID=America/New_York:20230519T190000
DTEND;TZID=America/New_York:20230519T210000
DTSTAMP:20260422T030533
CREATED:20230218T091238Z
LAST-MODIFIED:20230519T120038Z
UID:5990-1684522800-1684530000@cfcaeagles.org
SUMMARY:Graduation
DESCRIPTION:
URL:https://cfcaeagles.org/event/graduation-5/
LOCATION:Main Campus – 700 Good Homes Rd.\, Orlando\, FL 32818
END:VEVENT
END:VCALENDAR