BEGIN:VCALENDAR
VERSION:2.0
PRODID:-//Central Florida Christian Academy - ECPv6.11.2.1//NONSGML v1.0//EN
CALSCALE:GREGORIAN
METHOD:PUBLISH
X-ORIGINAL-URL:https://cfcaeagles.org
X-WR-CALDESC:Events for Central Florida Christian Academy
REFRESH-INTERVAL;VALUE=DURATION:PT1H
X-Robots-Tag:noindex
X-PUBLISHED-TTL:PT1H
BEGIN:VTIMEZONE
TZID:America/New_York
BEGIN:DAYLIGHT
TZOFFSETFROM:-0500
TZOFFSETTO:-0400
TZNAME:EDT
DTSTART:20230312T070000
END:DAYLIGHT
BEGIN:STANDARD
TZOFFSETFROM:-0400
TZOFFSETTO:-0500
TZNAME:EST
DTSTART:20231105T060000
END:STANDARD
END:VTIMEZONE
BEGIN:VEVENT
DTSTART;TZID=America/New_York:20230803T073000
DTEND;TZID=America/New_York:20230803T153000
DTSTAMP:20260419T221152
CREATED:20230729T145952Z
LAST-MODIFIED:20230803T151442Z
UID:6388-1691047800-1691076600@cfcaeagles.org
SUMMARY:Pre-planning week childcare
DESCRIPTION:Room for children ages 5 – 12 with a CFCA substitute teacher present. About 6 children total.
URL:https://cfcaeagles.org/event/pre-planning-week-childcare-7/
END:VEVENT
BEGIN:VEVENT
DTSTART;TZID=America/New_York:20230803T073000
DTEND;TZID=America/New_York:20230803T153000
DTSTAMP:20260419T221152
CREATED:20230729T145952Z
LAST-MODIFIED:20230803T151442Z
UID:6389-1691047800-1691076600@cfcaeagles.org
SUMMARY:Pre-planning week childcare
DESCRIPTION:Karen Abell approved the use of Room A127 in preschool hallway for childcare during pre-planning
URL:https://cfcaeagles.org/event/pre-planning-week-childcare-8/
END:VEVENT
BEGIN:VEVENT
DTSTART;TZID=America/New_York:20230803T083000
DTEND;TZID=America/New_York:20230803T103000
DTSTAMP:20260419T221152
CREATED:20230726T144504Z
LAST-MODIFIED:20230802T151513Z
UID:6358-1691051400-1691058600@cfcaeagles.org
SUMMARY:Security | IT Training
DESCRIPTION:
URL:https://cfcaeagles.org/event/security-it-training/
END:VEVENT
END:VCALENDAR