BEGIN:VCALENDAR
VERSION:2.0
PRODID:-//Central Florida Christian Academy - ECPv6.11.2.1//NONSGML v1.0//EN
CALSCALE:GREGORIAN
METHOD:PUBLISH
X-WR-CALNAME:Central Florida Christian Academy
X-ORIGINAL-URL:https://cfcaeagles.org
X-WR-CALDESC:Events for Central Florida Christian Academy
REFRESH-INTERVAL;VALUE=DURATION:PT1H
X-Robots-Tag:noindex
X-PUBLISHED-TTL:PT1H
BEGIN:VTIMEZONE
TZID:America/New_York
BEGIN:DAYLIGHT
TZOFFSETFROM:-0500
TZOFFSETTO:-0400
TZNAME:EDT
DTSTART:20230312T070000
END:DAYLIGHT
BEGIN:STANDARD
TZOFFSETFROM:-0400
TZOFFSETTO:-0500
TZNAME:EST
DTSTART:20231105T060000
END:STANDARD
END:VTIMEZONE
BEGIN:VEVENT
DTSTART;TZID=America/New_York:20230807T080000
DTEND;TZID=America/New_York:20230807T130000
DTSTAMP:20260420T210752
CREATED:20230727T144440Z
LAST-MODIFIED:20230807T152940Z
UID:6375-1691395200-1691413200@cfcaeagles.org
SUMMARY:Pre Planning
DESCRIPTION:All Staff Meeting and Lunch
URL:https://cfcaeagles.org/event/pre-planning/
END:VEVENT
BEGIN:VEVENT
DTSTART;TZID=America/New_York:20230807T150000
DTEND;TZID=America/New_York:20230807T200000
DTSTAMP:20260420T210752
CREATED:20230726T144505Z
LAST-MODIFIED:20230807T152940Z
UID:6362-1691420400-1691438400@cfcaeagles.org
SUMMARY:Back to School Bash
DESCRIPTION:
URL:https://cfcaeagles.org/event/back-to-school-bash-7/
END:VEVENT
END:VCALENDAR